BEGIN:VCALENDAR
VERSION:2.0
PRODID:-//Gate to Romania - ECPv5.2.1.1//NONSGML v1.0//EN
CALSCALE:GREGORIAN
METHOD:PUBLISH
X-WR-CALNAME:Gate to Romania
X-ORIGINAL-URL:https://gatetoromania.com
X-WR-CALDESC:Events for Gate to Romania
BEGIN:VTIMEZONE
TZID:Europe/Bucharest
BEGIN:DAYLIGHT
TZOFFSETFROM:+0200
TZOFFSETTO:+0300
TZNAME:EEST
DTSTART:20160327T010000
END:DAYLIGHT
BEGIN:STANDARD
TZOFFSETFROM:+0300
TZOFFSETTO:+0200
TZNAME:EET
DTSTART:20161030T010000
END:STANDARD
END:VTIMEZONE
BEGIN:VEVENT
DTSTART;VALUE=DATE:20161130
DTEND;VALUE=DATE:20161204
DTSTAMP:20260419T150058
CREATED:20160927T233807Z
LAST-MODIFIED:20160927T233807Z
UID:2317-1480464000-1480809599@gatetoromania.com
SUMMARY:4 zile de tradiții și meșteșuguri în Oltenia de sub munte
DESCRIPTION:Oltenia de sub munte este slăbiciunea noastră. Nu numai datorită faptului că avem rădăcini acolo.\nFiecare incursiune dincolo de Olt ne (re)amintește că provincia asta istorică are foarte multe de oferit și doar își așteaptă exploratorii\, călătorii\, aventurierii\, turiștii. \nNe reîntoarcem în prag de iarnă\, să cutreierăm Oltenia centrală și de sub munte\, de la Olt până dincolo de Jiu. Mergem să-i mâncăm bucatele\, să-i bem vinurile\, să-i vizităm culele şi să-i aflăm meşteşugurile. Să cunoaștem mai bine firea oltenilor și să aflăm care-i baiul cu zaibărul. \n“În a treia zi de la naștere este hotărât drumul pruncului prin viață\, la o masă a ursitoarelor. Prin poartă\, a gospodăriei\, se trece un nou prag: spre maturitate\, familie și comunitate. Stâlpul funerar sau pomul încheie drumul. În lumea țărănească\, toate cele trei obiecte-semne\, masă – poartă – stâlp\, închipuie treceri\, dar și sensurile comunicării între două lumi. Le întâlnim și în ansamblul de la Târgu-Jiu\, o reîntoarcere a lui Brâncuși în locul de unde a plecat.” – vorbim despre aceste semne\, despre simbolurile şi motivele încrustate pe ele\, despre meşteşugul şi tradiţia care au făcut posibilă naşterea geniului creator brâncuşian. \nDintre secretele culturalo-artistico-mesteșugăreşti: \n– vizităm crame și aflăm un pic mai multe despre vin\, cultura vinului și soiuri românești din Oltenia \n– prânzim în gospodării tradiționale și vedem cum se face pâinea la țest \n– intrăm în lumea covoarelor oltenești și învățăm să le descifrăm simbolurile \n– intrăm în câteva cule\, să le aflăm istoria (altele decât cele de la Măldărești\, mai ascunse) \n– mergem pe Podul lui Dumnezeu și vedem lacul care este sorbit de Diavol (locul numit Ponoare) \n– povestim cu o bunică pe marginea războiului de țesut pe care încă îl are în casă \n– îi facem o vizită lui Brâncuși\, atât la Hobița\, cât și la Târgu Jiu și Craiova \n– aflăm tainele mai multor meșteșuguri: ceramică în satul Olari\, pictură pe ceramică la Novaci\, sculptură în lemn la Crasna\, țesut și cusut la Bratilovu \nȘi câte și mai câte.\n— \nPrețul excursiei: 880 RON (include 3 nopți de cazare\, 2 cine\, 2 mic dejunuri\, degustare de vinuri\, taxele de intrare la obiectivele turistice și ateliere\, ghidaj\, taxă de excursie) \nNu include transportul (vom alege între microbuz și mașini personale în funcție de doritori) și cele 3 prânzuri. \nÎnscrieri și avans până la data de: 17 noiembrie\, în formularul de aici (https://goo.gl/forms/3LbUbBFQKuNcIAvD2) sau\, dacă ți-e mai ușor\, dă-ne un mail la hai@mysecretromania.com
URL:https://gatetoromania.com/event/4-zile-in-oltenia-de-sub-munte-2/
ATTACH;FMTTYPE=:
END:VEVENT
END:VCALENDAR