BEGIN:VCALENDAR
VERSION:2.0
PRODID:-//Gate to Romania - ECPv5.2.1.1//NONSGML v1.0//EN
CALSCALE:GREGORIAN
METHOD:PUBLISH
X-WR-CALNAME:Gate to Romania
X-ORIGINAL-URL:https://gatetoromania.com
X-WR-CALDESC:Events for Gate to Romania
BEGIN:VTIMEZONE
TZID:Europe/Bucharest
BEGIN:DAYLIGHT
TZOFFSETFROM:+0200
TZOFFSETTO:+0300
TZNAME:EEST
DTSTART:20160327T010000
END:DAYLIGHT
BEGIN:STANDARD
TZOFFSETFROM:+0300
TZOFFSETTO:+0200
TZNAME:EET
DTSTART:20161030T010000
END:STANDARD
END:VTIMEZONE
BEGIN:VEVENT
DTSTART;TZID=Europe/Bucharest:20160915T080000
DTEND;TZID=Europe/Bucharest:20160918T170000
DTSTAMP:20260419T150913
CREATED:20160803T142053Z
LAST-MODIFIED:20160803T142053Z
UID:2307-1473926400-1474218000@gatetoromania.com
SUMMARY:Delta Dunării - La admirat nuferi pe brațul Sf Gheorghe
DESCRIPTION:La început de toamnă ne întoarcem în Delta Dunării. \nLocul? Hotelul plutitor Anastasia ( Hotel Plutitor Anastasia)\, andocat în apropiere de Uzlina\, pe brațul Sfântu Gheorghe. \nMotivul? Să ne bucurăm de nuferi\, de Deltă\, de liniște\, de apusuri\, de răsărituri\, de mâncare atât de bună încât o să plângi după peștele de acolo și o să numeri lunile până la primăvară. \nProgramul? Câteva surprize (plăcute și foarte plăcute) până ajungem în Deltă. Câteva la întoarcere. Odată ajunși acolo îmbinăm relaxarea cu excursiile zilnice pe canale. Facem un drum și până la Pădurea Caraorman. Ascultăm povești pescărești. Pescuim. Urzim alte povești. Dacă o să avem chef\, o să şi înotăm – căci apa o să fie caldă. \nLocuri: 14 \nPrețul excursiei: 860 lei (include cazare pe hotel plutitor\, 3 mese pe zi\, excursii zilnice pe canale\, excursie Pădurea Caraorman\, intrări muzee\, taxă excursie)\nDaca înscrierea are loc dupa 20 august\, prețul devine 960 lei. \nPentru înscrieri completează formularul de aici (http://goo.gl/forms/qxgQlZt5JMj3Qg573) lasă-ne un mail la hai@mysecretromania.com \nNu este inclus în preț: Transportul. Vom merge cu mașinile personale\, vom împărți costul carburantului\, care ar trebui să fie in jur de 110 lei/persoană. \nTe așteptăm să vii cu noi! \nSăptămână faină\,\nIoana & Gabi
URL:https://gatetoromania.com/event/delta-dunarii-la-admirat-nuferi-pe-bratul-sf-gheorghe-2/
ATTACH;FMTTYPE=:
END:VEVENT
END:VCALENDAR