BEGIN:VCALENDAR
VERSION:2.0
PRODID:-//Gate to Romania - ECPv5.2.1.1//NONSGML v1.0//EN
CALSCALE:GREGORIAN
METHOD:PUBLISH
X-WR-CALNAME:Gate to Romania
X-ORIGINAL-URL:https://gatetoromania.com
X-WR-CALDESC:Events for Gate to Romania
BEGIN:VTIMEZONE
TZID:Europe/Bucharest
BEGIN:DAYLIGHT
TZOFFSETFROM:+0200
TZOFFSETTO:+0300
TZNAME:EEST
DTSTART:20170326T010000
END:DAYLIGHT
BEGIN:STANDARD
TZOFFSETFROM:+0300
TZOFFSETTO:+0200
TZNAME:EET
DTSTART:20171029T010000
END:STANDARD
END:VTIMEZONE
BEGIN:VEVENT
DTSTART;VALUE=DATE:20171117
DTEND;VALUE=DATE:20171120
DTSTAMP:20260419T124406
CREATED:20161010T135438Z
LAST-MODIFIED:20161010T135438Z
UID:2319-1510876800-1511135999@gatetoromania.com
SUMMARY:Facem cozonaci la Novaci
DESCRIPTION:La sfârșit de noiembrie vrem să vă arătăm cum se fac cozonacii în familia mea (Gabi) şi în alte familii de oieri din zona Olteniei. Mergem din nou spre Transalpina\, la Novaci\, pentru mâncare şi poveştile locului. \nPlecarea este de vineri după-masa\, ajungem și ne-apucăm de pregătit lucrurile pentru operațiunea cozonaci: tăiat lemne\, curățat nuci. Băieţii se ocupă de lemne\, udați cu vin şi ţuică produse în casă.\n\nSâmbătă ne trezim de dimineaţă şi participăm la proces: amestecăm făina\, drojdia\, laptele\, ouăle şi observăm de câtă dragoste e nevoie ca să frământăm coca pufoasă. Facem cozonaci\, colaci şi turtă şi le urmărim până ies calde din cuptor. Mâncăm bine și avem la desert cozonac.  \nDuminică ne pregătim pentru a cunoaşte alte tradiţii. Mergem să intrăm într-un univers al simbolurilor populare\, acasă la Daciana Ungureanu – artist plastic. Daciana ne arată comorile din colecţia ei etnografică şi ne învaţă să pictăm pe ceramică\, inspiraţi de motivele folosite din moşi-strămoşi. Obiectele care ies din mâinile ei sunt opere de artă. Noi o să furăm puţin din tehnica ei şi vom realiza clopoţei sau farfuriuţe.\nSurpriza acestei excursii e lada de zestre a bunicii Dacianei; dacă suntem cuminţi\, o să ne putem îmbrăca în piesele din colecţie\, să simţim cum se găteau gorjenii înainte de Crăciun! \nNe vom întoarce seara la Bucureşti cu tolba plină de bunătăţi produse de noi (fiecare cu cozonacul lui)\, cu reţeta de cozonaci şi cu ornamente realizate tot de noi! \nTurul de trei zile include\n\nTransport București – Novaci – București;\nCină la pensiune\nCazare la Pensiunea Loredana 3* din Novaci (2 nopţi)\nDrumeţie uşoară pe Transalpina pentru fotografii (cu microbuzul)\nAtelier de cozonăcit – durata: 5 ore;\nPrânz într-o gospodărie tradiţională\nCină tradiţională acasă la Colecţia etnografică Daciana Ungureanu (cină sâmbătă);\nMic dejun la pensiunea Loredana 3* din Novaci (2 dimineţi);\nAtelier de pictură pe ceramică alături de Daciana Ungureanu\, artist plastic – 2 ore\nGhid însoțitor.\n\nCosturi suplimentare: masa de prânz de duminică\, suveniruri achiziţionate \nPreţul excursiei: 640 RON / pers – loc în cameră dublă \n\npreţ valabil pentru minim 12 participanţi\n\nLocuri disponibile: 15 \nÎnscrieri & detalii:  Gabi Solomon – 0745 499 371 şi pe mail la hai@mysecretromania.com \nMărturii\n“Poate nu vă spun nimic nou\, poate aveți bunici la țară sau părinți care fac cozonaci. Dar pentru cei ca mine care nu apucă des să se bucure de aerul rural\, de laptele adus de la vacă direct\, de brânza și smântâna făcute în cămăruța din spate\, numai ideea de a asista la nașterea unui cozonac face ca gustul lui să fie de zece mii de ori mai bun. Pentru că știi povestea din spate. Vezi că s-au pus 15 ouă (să fie!)\, știi că s-au spart nuci două ore\, știi că s-a tras de coca aia până a început să se dezlipească frumos de copaia de lemn și să danseze printre degete. Ai admirat cât de repede a fost întinsă cu făcălețul pe masă\, ghem după ghem și cum a fost întinsă pe paturi de metal\, la crescut\, la căldurică sub o față de masă care le acopere bine pe toate. Ai băgat degetul în bolul cu crema de cacao\, moment de glorie.” din articolul Cozonacii si pictura – refugii de 5 stele\, scris de Ancuţa Iosif. \nTe așteptăm să vii cu noi\, să te bucuri de propriul cozonac\, făcut chiar de tine!
URL:https://gatetoromania.com/event/facem-cozonaci-la-novaci-2017-2/
ATTACH;FMTTYPE=:
END:VEVENT
END:VCALENDAR