BEGIN:VCALENDAR
VERSION:2.0
PRODID:-//Gate to Romania - ECPv5.2.1.1//NONSGML v1.0//EN
CALSCALE:GREGORIAN
METHOD:PUBLISH
X-WR-CALNAME:Gate to Romania
X-ORIGINAL-URL:https://gatetoromania.com
X-WR-CALDESC:Events for Gate to Romania
BEGIN:VTIMEZONE
TZID:Europe/Bucharest
BEGIN:DAYLIGHT
TZOFFSETFROM:+0200
TZOFFSETTO:+0300
TZNAME:EEST
DTSTART:20160327T010000
END:DAYLIGHT
BEGIN:STANDARD
TZOFFSETFROM:+0300
TZOFFSETTO:+0200
TZNAME:EET
DTSTART:20161030T010000
END:STANDARD
END:VTIMEZONE
BEGIN:VEVENT
DTSTART;TZID=Europe/Bucharest:20160407T080000
DTEND;TZID=Europe/Bucharest:20160410T230000
DTSTAMP:20260419T235744
CREATED:20160309T205250Z
LAST-MODIFIED:20160309T205250Z
UID:941-1460016000-1460329200@gatetoromania.com
SUMMARY:La mirosit de liliac pe Semmeringul bănățean (7 -10 aprilie)
DESCRIPTION:Se zvonește că cea mai veche cale ferată montană de pe teritoriul României ar fi străjuită de o mulțime de tufe de liliac. În aprilie dăm o fugă să ne plimbăm cu trenul de la Oravița la Anina – și înapoi\, să fotografiem tunele\, viaducte și să mirosim liliac. După ce terminăm cu îmbătarea simțului olfactiv\, o să descoperim fosta (și actuala) glorie a Aninei\, a Oraviței\, o să vizităm Cascada Bigăr și o să parcurgem și o bucată din faimoasa Clisură a Dunării. \nDar asta nu e tot\, căci programul include și \n– o zi petrecută la un festival al artelor tradiționale în Bozovici\n– un tur de Băile Herculane\n– o drumeție mică până la lacul Ochiul Beiului și la Cascada Beușnița\n– o vizită la morile de apă de la Rudăria (unde o să ajungem cu tractorul :D)\n– oprire la Cascada Bigăr \nTe-am convins că o să fie o superexcursie? 🙂 \nLocuri: 16 \nPrețul excursiei: 500 de lei (include cazare\, mic dejunuri\, intrări obiective turistice\, taxă excursie) \nÎnscrieri până la data de: 27 martie\, în formularul de aici () sau lasă-ne un mail la hai@mysecretromania.com \nNu sunt incluse în preț: mesele de prânz\, cinele și transportul.\nO primă variantă este să mergem cu mașinile personale și să împărțim costul carburantului\, care ar trebui să fie în jur de 110 lei/persoană.\nA doua variantă este să închiriem un microbuz iar prețul de persoană va fi de 200 de lei. \n 
URL:https://gatetoromania.com/event/la-mirosit-liliac-pe-semmeringul-banatean/
ATTACH;FMTTYPE=image/jpeg:https://gatetoromania.com/wp-content/uploads/2015/03/anina.jpg
END:VEVENT
END:VCALENDAR