BEGIN:VCALENDAR
VERSION:2.0
PRODID:-//Gate to Romania - ECPv5.2.1.1//NONSGML v1.0//EN
CALSCALE:GREGORIAN
METHOD:PUBLISH
X-WR-CALNAME:Gate to Romania
X-ORIGINAL-URL:https://gatetoromania.com
X-WR-CALDESC:Events for Gate to Romania
BEGIN:VTIMEZONE
TZID:Europe/Bucharest
BEGIN:DAYLIGHT
TZOFFSETFROM:+0200
TZOFFSETTO:+0300
TZNAME:EEST
DTSTART:20160327T010000
END:DAYLIGHT
BEGIN:STANDARD
TZOFFSETFROM:+0300
TZOFFSETTO:+0200
TZNAME:EET
DTSTART:20161030T010000
END:STANDARD
END:VTIMEZONE
BEGIN:VEVENT
DTSTART;TZID=Europe/Bucharest:20160610T080000
DTEND;TZID=Europe/Bucharest:20160612T220000
DTSTAMP:20260424T223749
CREATED:20160425T212827Z
LAST-MODIFIED:20160425T212827Z
UID:2295-1465545600-1465768800@gatetoromania.com
SUMMARY:Vin la Iasi (10 -12 iunie)
DESCRIPTION:Povestea pe scurt: facem un city break extins în zona Iașilor. Îi vizităm palatele\, parcurile\, bojdeucile (prima oprire e la cea a lui Creangă)\, mănăstirile dar ieșim și din oras și ne oprim la Palatul de la Ruginoasa și la Castelul de la Miclăușeni. \n\n\n \n\n\nDouă- trei locuri în care ne vom opri:\n\n\n– Biserica Trei Ierarhi\n\n\n– Palatul Culturii\n\n\n– Bojdeuca lui Creangă\n\n\n– Teiul lui Eminescu\n\n\n– Teatrul din Iași\n\n\n– Casa lui Dosoftei\n\n\n– Castelul de la Miclăușeni\n\n\n– Palatul lui Cuza de la Ruginoasa\n\n\n– Conac Polizu\n\n\n– Crama GRAMMA\n\n\n\n\n\n\nLocuri: 12 (excursia se face dacă ne strângem 7 persoane.) \nPrețul excursiei: 740 lei (include cazare cu mic dejun\, un prânz\, ghidaje\, intrări obiective turistice\, taxă excursie) \nÎnscrieri până la data de:  5 iunie\, în formularul de aici \nNu este inclus în preț: Transportul. O primă variantă este să mergem cu mașinile personale. A doua este să închiriem un microbuz. Costul estimat este între 170 – 320 de lei. Dar revenim.
URL:https://gatetoromania.com/event/vin-la-iasi-10-12-iunie-2/
ATTACH;FMTTYPE=:
END:VEVENT
END:VCALENDAR